BEGIN:VCALENDAR
VERSION:2.0
PRODID:PASTORALRAUM//EVENT//ICAL
BEGIN:VEVENT
UID:20260419T115249Z-7805@www.pastoralraum-muri.ch
DTSTAMP:20260419T115249Z
DTSTART:20260503T080000Z

SUMMARY:Gottesdienst
DESCRIPTION:<p class="marginalColumnParagraph">Festgottesdienst zur Erstkommunion (J. Dsouza, I. Bobas)<br>Kollekte:</p>\n\n
LOCATION:Aristau
END:VEVENT
END:VCALENDAR