BEGIN:VCALENDAR
VERSION:2.0
PRODID:PASTORALRAUM//EVENT//ICAL
BEGIN:VEVENT
UID:20260419T115717Z-7793@www.pastoralraum-muri.ch
DTSTAMP:20260419T115717Z
DTSTART:20260501T170000Z

SUMMARY:Gottesdienst
DESCRIPTION:<p class="marginalColumnParagraph">Eucharistiefeier (J. Dsouza)<br>Jahrzeit für Barbara Frey; Paul Waltenspühl; Wilhelmine Huwyler; Anna Stierli-von Rotz; Silvia Konrad-Stöckli</p>\n\n
LOCATION:Muri
END:VEVENT
END:VCALENDAR