BEGIN:VCALENDAR
VERSION:2.0
PRODID:PASTORALRAUM//EVENT//ICAL
BEGIN:VEVENT
UID:20260419T115606Z-7789@www.pastoralraum-muri.ch
DTSTAMP:20260419T115606Z
DTSTART:20260501T130000Z

SUMMARY:Gottesdienst
DESCRIPTION:<p class="marginalColumnParagraph">Aussetzung des Allerheiligsten, anschl. stille Anbetung</p>\n\n
LOCATION:Muri
END:VEVENT
END:VCALENDAR