BEGIN:VCALENDAR
VERSION:2.0
PRODID:PASTORALRAUM//EVENT//ICAL
BEGIN:VEVENT
UID:20260419T125852Z-7784@www.pastoralraum-muri.ch
DTSTAMP:20260419T125852Z
DTSTART:20260419T170000Z

SUMMARY:Gottesdienst
DESCRIPTION:<p class="marginalColumnParagraph">Eucharistiefeier (B. Scaria)</p>\n\n
LOCATION:Muri, Klosterkirche
END:VEVENT
END:VCALENDAR