BEGIN:VCALENDAR
VERSION:2.0
PRODID:PASTORALRAUM//EVENT//ICAL
BEGIN:VEVENT
UID:20260419T125250Z-7783@www.pastoralraum-muri.ch
DTSTAMP:20260419T125250Z
DTSTART:20260419T070000Z

SUMMARY:Gottesdienst
DESCRIPTION:<p class="marginalColumnParagraph">Wortgottesdienst mit Kommunionfeier (A. Biermann)<br>Kollekte: Chance Kirchenberufe</p>\n\n
LOCATION:Muri
END:VEVENT
END:VCALENDAR