BEGIN:VCALENDAR
VERSION:2.0
PRODID:PASTORALRAUM//EVENT//ICAL
BEGIN:VEVENT
UID:20260421T101846Z-7775@www.pastoralraum-muri.ch
DTSTAMP:20260421T101846Z
DTSTART:20260424T170000Z

SUMMARY:Gottesdienst
DESCRIPTION:<p class="marginalColumnParagraph">Eucharistiefeier (B. Scaria)<br>Dreissigster für Anton Beeler-Frey<br>Jahrzeit für Albert Rey-Stalder; Blanka Villiger-Moser; Pia Maria + Josef Winiger-Egli; Maria Egli-Bürgi</p>\n\n
LOCATION:Muri
END:VEVENT
END:VCALENDAR