BEGIN:VCALENDAR
VERSION:2.0
PRODID:PASTORALRAUM//EVENT//ICAL
BEGIN:VEVENT
UID:20260419T115717Z-7774@www.pastoralraum-muri.ch
DTSTAMP:20260419T115717Z
DTSTART:20260501T153000Z

SUMMARY:Gottesdienst
DESCRIPTION:<p class="marginalColumnParagraph">Rosenkranz</p>\n\n
LOCATION:Merenschwand
END:VEVENT
END:VCALENDAR