BEGIN:VCALENDAR
VERSION:2.0
PRODID:PASTORALRAUM//EVENT//ICAL
BEGIN:VEVENT
UID:20260421T102701Z-7757@www.pastoralraum-muri.ch
DTSTAMP:20260421T102701Z
DTSTART:20260425T080000Z

SUMMARY:Gottesdienst
DESCRIPTION:<p class="marginalColumnParagraph">Eucharistiefeier (J. Dsouza)</p>\n\n
LOCATION:Boswil, Solino
END:VEVENT
END:VCALENDAR